BEGIN:VCALENDAR
VERSION:2.0
PRODID:-//Peak USA - ECPv6.0.12//NONSGML v1.0//EN
CALSCALE:GREGORIAN
METHOD:PUBLISH
X-ORIGINAL-URL:https://peakusa.golf
X-WR-CALDESC:Events for Peak USA
REFRESH-INTERVAL;VALUE=DURATION:PT1H
X-Robots-Tag:noindex
X-PUBLISHED-TTL:PT1H
BEGIN:VTIMEZONE
TZID:UTC
BEGIN:STANDARD
TZOFFSETFROM:+0000
TZOFFSETTO:+0000
TZNAME:UTC
DTSTART:20250101T000000
END:STANDARD
END:VTIMEZONE
BEGIN:VEVENT
DTSTART;TZID=UTC:20250729T080000
DTEND;TZID=UTC:20250731T170000
DTSTAMP:20260423T190608
CREATED:20240516T121443Z
LAST-MODIFIED:20250306T150257Z
UID:25323-1753776000-1753981200@peakusa.golf
SUMMARY:English Girls' U16 U14 Open Stroke Play Championship
DESCRIPTION:
URL:https://peakusa.golf/event/english-girls-u16-u14-open-stroke-play-championship/
LOCATION:Old FOld Manor Golf Club\, RH8 9NQ
END:VEVENT
BEGIN:VEVENT
DTSTART;TZID=UTC:20250810T080000
DTEND;TZID=UTC:20250816T170000
DTSTAMP:20260423T190608
CREATED:20240516T123512Z
LAST-MODIFIED:20250306T150036Z
UID:25326-1754812800-1755363600@peakusa.golf
SUMMARY:R and A British Girls
DESCRIPTION:
URL:https://peakusa.golf/event/r-and-a-british-girls/
LOCATION:Conwy\, Wales
END:VEVENT
BEGIN:VEVENT
DTSTART;TZID=UTC:20250811T080000
DTEND;TZID=UTC:20250816T170000
DTSTAMP:20260423T190608
CREATED:20240516T123655Z
LAST-MODIFIED:20250306T145909Z
UID:25330-1754899200-1755363600@peakusa.golf
SUMMARY:R and A British Boys
DESCRIPTION:
URL:https://peakusa.golf/event/r-and-a-british-boys/
LOCATION:Moortown Golf Club
END:VEVENT
END:VCALENDAR