BEGIN:VCALENDAR
VERSION:2.0
PRODID:-//Peak USA - ECPv6.0.12//NONSGML v1.0//EN
CALSCALE:GREGORIAN
METHOD:PUBLISH
X-WR-CALNAME:Peak USA
X-ORIGINAL-URL:https://peakusa.golf
X-WR-CALDESC:Events for Peak USA
REFRESH-INTERVAL;VALUE=DURATION:PT1H
X-Robots-Tag:noindex
X-PUBLISHED-TTL:PT1H
BEGIN:VTIMEZONE
TZID:UTC
BEGIN:STANDARD
TZOFFSETFROM:+0000
TZOFFSETTO:+0000
TZNAME:UTC
DTSTART:20250101T000000
END:STANDARD
END:VTIMEZONE
BEGIN:VEVENT
DTSTART;TZID=UTC:20250708T080000
DTEND;TZID=UTC:20250711T170000
DTSTAMP:20260423T185945
CREATED:20240516T123943Z
LAST-MODIFIED:20250306T150927Z
UID:25333-1751961600-1752253200@peakusa.golf
SUMMARY:Scottish Girls U16 Open
DESCRIPTION:
URL:https://peakusa.golf/event/scottish-girls-u16-open/
END:VEVENT
END:VCALENDAR