BEGIN:VCALENDAR
VERSION:2.0
PRODID:-//Peak USA - ECPv6.0.12//NONSGML v1.0//EN
CALSCALE:GREGORIAN
METHOD:PUBLISH
X-ORIGINAL-URL:https://peakusa.golf
X-WR-CALDESC:Events for Peak USA
REFRESH-INTERVAL;VALUE=DURATION:PT1H
X-Robots-Tag:noindex
X-PUBLISHED-TTL:PT1H
BEGIN:VTIMEZONE
TZID:UTC
BEGIN:STANDARD
TZOFFSETFROM:+0000
TZOFFSETTO:+0000
TZNAME:UTC
DTSTART:20250101T000000
END:STANDARD
END:VTIMEZONE
BEGIN:VEVENT
DTSTART;TZID=UTC:20250627T080000
DTEND;TZID=UTC:20250629T170000
DTSTAMP:20260423T202427
CREATED:20240516T121059Z
LAST-MODIFIED:20250306T151356Z
UID:25317-1751011200-1751216400@peakusa.golf
SUMMARY:English U18 Amateur Championship (mixed)
DESCRIPTION:
URL:https://peakusa.golf/event/english-u18-amateur-championships/
LOCATION:Hesketh Golf Club
END:VEVENT
END:VCALENDAR