BEGIN:VCALENDAR
VERSION:2.0
PRODID:-//Peak USA - ECPv6.0.12//NONSGML v1.0//EN
CALSCALE:GREGORIAN
METHOD:PUBLISH
X-WR-CALNAME:Peak USA
X-ORIGINAL-URL:https://peakusa.golf
X-WR-CALDESC:Events for Peak USA
REFRESH-INTERVAL;VALUE=DURATION:PT1H
X-Robots-Tag:noindex
X-PUBLISHED-TTL:PT1H
BEGIN:VTIMEZONE
TZID:UTC
BEGIN:STANDARD
TZOFFSETFROM:+0000
TZOFFSETTO:+0000
TZNAME:UTC
DTSTART:20250101T000000
END:STANDARD
END:VTIMEZONE
BEGIN:VEVENT
DTSTART;VALUE=DATE:20250409
DTEND;VALUE=DATE:20250412
DTSTAMP:20260423T230119
CREATED:20230328T193304Z
LAST-MODIFIED:20250306T150557Z
UID:24279-1744156800-1744415999@peakusa.golf
SUMMARY:Scottish Girls Open Championship
DESCRIPTION:
URL:https://peakusa.golf/event/scottish-girls/
LOCATION:Arbroath Golf Club\, Powfoot Golf Club\, Annan\, DG12 5QE
END:VEVENT
BEGIN:VEVENT
DTSTART;TZID=UTC:20250409T080000
DTEND;TZID=UTC:20250412T170000
DTSTAMP:20260423T230119
CREATED:20250306T151112Z
LAST-MODIFIED:20250306T151152Z
UID:25717-1744185600-1744477200@peakusa.golf
SUMMARY:Scottish Boys Open Championship
DESCRIPTION:
URL:https://peakusa.golf/event/scottish-boys-open-championships/
END:VEVENT
END:VCALENDAR