BEGIN:VCALENDAR
VERSION:2.0
PRODID:-//Peak USA - ECPv6.0.12//NONSGML v1.0//EN
CALSCALE:GREGORIAN
METHOD:PUBLISH
X-WR-CALNAME:Peak USA
X-ORIGINAL-URL:https://peakusa.golf
X-WR-CALDESC:Events for Peak USA
REFRESH-INTERVAL;VALUE=DURATION:PT1H
X-Robots-Tag:noindex
X-PUBLISHED-TTL:PT1H
BEGIN:VTIMEZONE
TZID:UTC
BEGIN:STANDARD
TZOFFSETFROM:+0000
TZOFFSETTO:+0000
TZNAME:UTC
DTSTART:20240101T000000
END:STANDARD
END:VTIMEZONE
BEGIN:VEVENT
DTSTART;TZID=UTC:20240405T080000
DTEND;TZID=UTC:20250405T170000
DTSTAMP:20260424T002258
CREATED:20240516T124045Z
LAST-MODIFIED:20250306T150719Z
UID:25335-1712304000-1743872400@peakusa.golf
SUMMARY:Levert Trophy
DESCRIPTION:
URL:https://peakusa.golf/event/scottish-girls-amateur-championship/
LOCATION:Formby Golf Club\, Golf Road\, Formby\, Liverpool\, L37 1LQ
END:VEVENT
END:VCALENDAR